BEGIN:VCALENDAR
VERSION:2.0
PRODID:-//Tukios.com/
BEGIN:VEVENT
UID:f4fe4f3f-db87-495b-b85d-141b2b44f449@www.heritagefuneralhomellc.com
DTSTAMP:20260426T034022Z
DTSTART:20260430T233000Z
DTEND:20260501T003000Z
SUMMARY:Memorial Service
DESCRIPTION:
URL:https://www.heritagefuneralhomellc.com/obituaries/edley-guidry
LOCATION:Heritage Funeral Home 1315 Parish Rd  Lake Charles LA 70611
GEO:30.3211767;-93.2020868
END:VEVENT
END:VCALENDAR