BEGIN:VCALENDAR
VERSION:2.0
PRODID:-//Tukios.com/
BEGIN:VEVENT
UID:ffc58805-de6d-40f4-82a1-9cc63e4ddb85@www.heritagefuneralhomellc.com
DTSTAMP:20260426T033540Z
DTSTART:20260430T223000Z
DTEND:20260430T233000Z
SUMMARY:Visitation
DESCRIPTION:
URL:https://www.heritagefuneralhomellc.com/obituaries/edley-guidry
LOCATION:Heritage Funeral Home 1315 Parish Rd  Lake Charles LA 70611
GEO:30.3211767;-93.2020868
END:VEVENT
END:VCALENDAR